BEGIN:VCALENDAR
VERSION:2.0
PRODID:-//jEvents 1.5 for Joomla//EN
CALSCALE:GREGORIAN
METHOD:PUBLISH
BEGIN:VEVENT

UID:9847bff9a4459a64d25a8e4f05a55eb5
CATEGORIES:Courses
SUMMARY:Art Classes
LOCATION:Saoirse, Delta Retail Park
DESCRIPTION;ENCODING=QUOTED-PRINTABLE:\n\nMembers Art classes resume on:\nTuesday 29th September 2015\nat 7pm\nWe
  would like to welcome our new Art teacher\nMoya Ni Cheallaigh\n
CONTACT:Reception at 061-439990

DTSTAMP:20171101T030049Z
DTSTART:20151020T230000Z
DTEND:20151021T035959Z
SEQUENCE:0
TRANSP:OPAQUE
END:VEVENT
END:VCALENDAR