BEGIN:VCALENDAR
VERSION:2.0
PRODID:-//jEvents 1.5 for Joomla//EN
CALSCALE:GREGORIAN
METHOD:PUBLISH
BEGIN:VEVENT

UID:138b030df831d45b8b1be06fa3fb56c0
CATEGORIES:Sports
SUMMARY:Basketball
LOCATION:Sports Hall, Delta Retail Park, Ballysimon Road, limerick
DESCRIPTION;ENCODING=QUOTED-PRINTABLE:<p style="text-align: center;"><span style="font-size: 14pt;">Basketball</s
 pan></p><p style="text-align: center;"><strong>Basketball resumes on Wednes
 day 16th September</strong></p><p style="text-align: center;"><strong>Time:
 7-8.30 pm</strong></p><p style="text-align: center;"><strong>Venue: Sports 
 Hall, Delta Retail Park, Ballysimon Road, limerick</strong></p>
CONTACT:Reception on 061-439990

DTSTAMP:20171101T000644Z
DTSTART:20150916T120000Z
DTEND:20150916T210000Z
SEQUENCE:0
RRULE:FREQ=WEEKLY;UNTIL=20151215T235959Z;INTERVAL=1;BYDAY=WE
TRANSP:OPAQUE
END:VEVENT
END:VCALENDAR